Package: RProtoBufLib Version: 2.19.0 Command: /Library/Frameworks/R.framework/Resources/bin/R CMD INSTALL RProtoBufLib StartedAt: 2025-02-12 15:03:24 -0500 (Wed, 12 Feb 2025) EndedAt: 2025-02-12 15:07:45 -0500 (Wed, 12 Feb 2025) EllapsedTime: 261.6 seconds RetCode: 0 Status: OK