Package: RProtoBufLib Version: 2.19.0 Command: /home/biocbuild/bbs-3.21-bioc/R/bin/R CMD build --keep-empty-dirs --no-resave-data RProtoBufLib StartedAt: 2025-02-09 19:00:44 -0500 (Sun, 09 Feb 2025) EndedAt: 2025-02-09 19:05:42 -0500 (Sun, 09 Feb 2025) EllapsedTime: 298.6 seconds RetCode: 0 Status: OK PackageFile: RProtoBufLib_2.19.0.tar.gz PackageFileSize: 2.84 MiB