Package: RProtoBufLib Version: 2.19.0 Command: /home/biocbuild/bbs-3.21-bioc/R/bin/R CMD INSTALL RProtoBufLib StartedAt: 2025-02-04 15:01:48 -0500 (Tue, 04 Feb 2025) EndedAt: 2025-02-04 15:06:41 -0500 (Tue, 04 Feb 2025) EllapsedTime: 292.6 seconds RetCode: 0 Status: OK