Package: RProtoBufLib Version: 2.19.0 Command: chmod a+r RProtoBufLib -R && E:\biocbuild\bbs-3.21-bioc\R\bin\R.exe CMD build --keep-empty-dirs --no-resave-data RProtoBufLib StartedAt: 2025-02-04 21:19:57 -0500 (Tue, 04 Feb 2025) EndedAt: 2025-02-04 21:20:55 -0500 (Tue, 04 Feb 2025) EllapsedTime: 57.8 seconds RetCode: 0 Status: OK PackageFile: RProtoBufLib_2.19.0.tar.gz PackageFileSize: 21.08 MiB