Package: RProtoBufLib Version: 2.19.0 Command: E:\biocbuild\bbs-3.21-bioc\R\bin\R.exe CMD INSTALL RProtoBufLib StartedAt: 2025-02-04 15:17:01 -0500 (Tue, 04 Feb 2025) EndedAt: 2025-02-04 15:19:03 -0500 (Tue, 04 Feb 2025) EllapsedTime: 122.2 seconds RetCode: 0 Status: OK