Package: RRHO Version: 1.47.0 Maintainer: Jonathan Rosenblatt MaintainerEmail: john.ros.work at gmail.com git_url: https://git.bioconductor.org/packages/RRHO git_branch: devel git_last_commit: 5fc347a git_last_commit_date: 2024-10-29 09:47:09 -0500 (Tue, 29 Oct 2024)