Package: RRHO Version: 1.47.0 Command: rm -rf RRHO.buildbin-libdir && mkdir RRHO.buildbin-libdir && /Users/biocbuild/BBS/utils/build-universal.sh RRHO_1.47.0.tar.gz /Library/Frameworks/R.framework/Resources/bin/R RRHO.buildbin-libdir StartedAt: 2025-02-09 22:28:42 -0500 (Sun, 09 Feb 2025) EndedAt: 2025-02-09 22:28:44 -0500 (Sun, 09 Feb 2025) EllapsedTime: 2.0 seconds RetCode: 0 Status: OK PackageFile: RRHO_1.47.0.tgz PackageFileSize: 750.6 KiB