Package: RRHO Version: 1.47.0 Command: /Library/Frameworks/R.framework/Resources/bin/R CMD build --keep-empty-dirs --no-resave-data RRHO StartedAt: 2025-02-09 17:27:42 -0500 (Sun, 09 Feb 2025) EndedAt: 2025-02-09 17:27:48 -0500 (Sun, 09 Feb 2025) EllapsedTime: 5.1 seconds RetCode: 0 Status: OK PackageFile: RRHO_1.47.0.tar.gz PackageFileSize: 717.8 KiB