Package: RRHO Version: 1.47.0 Command: /Library/Frameworks/R.framework/Resources/bin/R CMD check --install=check:RRHO.install-out.txt --library=/Library/Frameworks/R.framework/Resources/library --no-vignettes --timings RRHO_1.47.0.tar.gz StartedAt: 2025-02-12 21:09:36 -0500 (Wed, 12 Feb 2025) EndedAt: 2025-02-12 21:09:48 -0500 (Wed, 12 Feb 2025) EllapsedTime: 12.1 seconds RetCode: 0 Status: OK CheckDir: RRHO.Rcheck Warnings: 0