Package: RRHO Version: 1.47.0 Command: /home/biocbuild/R/R/bin/R CMD INSTALL RRHO StartedAt: 2025-01-29 19:44:30 -0000 (Wed, 29 Jan 2025) EndedAt: 2025-01-29 19:44:33 -0000 (Wed, 29 Jan 2025) EllapsedTime: 3.1 seconds RetCode: 0 Status: OK