Package: RRHO Version: 1.47.0 Command: /home/biocbuild/bbs-3.21-bioc/R/bin/R CMD build --keep-empty-dirs --no-resave-data RRHO StartedAt: 2025-02-12 18:56:57 -0500 (Wed, 12 Feb 2025) EndedAt: 2025-02-12 18:57:04 -0500 (Wed, 12 Feb 2025) EllapsedTime: 7.0 seconds RetCode: 0 Status: OK PackageFile: RRHO_1.47.0.tar.gz PackageFileSize: 717 KiB