Package: RRHO Version: 1.47.0 Command: chmod a+r RRHO -R && E:\biocbuild\bbs-3.21-bioc\R\bin\R.exe CMD build --keep-empty-dirs --no-resave-data RRHO StartedAt: 2025-02-09 21:17:57 -0500 (Sun, 09 Feb 2025) EndedAt: 2025-02-09 21:18:19 -0500 (Sun, 09 Feb 2025) EllapsedTime: 22.3 seconds RetCode: 0 Status: OK PackageFile: RRHO_1.47.0.tar.gz PackageFileSize: 562.5 KiB