Package: RRHO Version: 1.47.0 Command: E:\biocbuild\bbs-3.21-bioc\R\bin\R.exe CMD check --no-multiarch --install=check:RRHO.install-out.txt --library=E:\biocbuild\bbs-3.21-bioc\R\library --no-vignettes --timings RRHO_1.47.0.tar.gz StartedAt: 2025-02-10 04:54:02 -0500 (Mon, 10 Feb 2025) EndedAt: 2025-02-10 04:54:34 -0500 (Mon, 10 Feb 2025) EllapsedTime: 32.0 seconds RetCode: 0 Status: OK CheckDir: RRHO.Rcheck Warnings: 0