Package: RSeqAn Version: 1.27.0 Command: /Library/Frameworks/R.framework/Resources/bin/R CMD build --keep-empty-dirs --no-resave-data RSeqAn StartedAt: 2025-02-09 18:14:46 -0500 (Sun, 09 Feb 2025) EndedAt: 2025-02-09 18:15:10 -0500 (Sun, 09 Feb 2025) EllapsedTime: 24.1 seconds RetCode: 0 Status: OK PackageFile: RSeqAn_1.27.0.tar.gz PackageFileSize: 1.621 MiB