Package: RSeqAn Version: 1.27.0 Command: /Library/Frameworks/R.framework/Resources/bin/R CMD check --install=check:RSeqAn.install-out.txt --library=/Library/Frameworks/R.framework/Resources/library --no-vignettes --timings RSeqAn_1.27.0.tar.gz StartedAt: 2025-02-09 23:15:24 -0500 (Sun, 09 Feb 2025) EndedAt: 2025-02-09 23:16:30 -0500 (Sun, 09 Feb 2025) EllapsedTime: 66.5 seconds RetCode: 0 Status: OK CheckDir: RSeqAn.Rcheck Warnings: 0