Package: RSeqAn Version: 1.27.0 Command: /Library/Frameworks/R.framework/Resources/bin/R CMD INSTALL RSeqAn StartedAt: 2025-02-09 15:06:02 -0500 (Sun, 09 Feb 2025) EndedAt: 2025-02-09 15:06:38 -0500 (Sun, 09 Feb 2025) EllapsedTime: 36.0 seconds RetCode: 0 Status: OK