Package: RSeqAn Version: 1.27.0 Command: /home/biocbuild/bbs-3.21-bioc/R/bin/R CMD build --keep-empty-dirs --no-resave-data RSeqAn StartedAt: 2025-02-09 19:01:24 -0500 (Sun, 09 Feb 2025) EndedAt: 2025-02-09 19:01:40 -0500 (Sun, 09 Feb 2025) EllapsedTime: 16.0 seconds RetCode: 0 Status: OK PackageFile: RSeqAn_1.27.0.tar.gz PackageFileSize: 1.62 MiB