Package: RSeqAn Version: 1.27.0 Command: /home/biocbuild/bbs-3.21-bioc/R/bin/R CMD INSTALL RSeqAn StartedAt: 2025-02-04 15:01:29 -0500 (Tue, 04 Feb 2025) EndedAt: 2025-02-04 15:01:43 -0500 (Tue, 04 Feb 2025) EllapsedTime: 13.9 seconds RetCode: 0 Status: OK