Package: RTNduals Version: 1.31.0 Command: /home/biocbuild/R/R/bin/R CMD INSTALL RTNduals StartedAt: 2025-01-29 20:30:30 -0000 (Wed, 29 Jan 2025) EndedAt: 2025-01-29 20:31:12 -0000 (Wed, 29 Jan 2025) EllapsedTime: 41.4 seconds RetCode: 0 Status: OK