Package: RTNduals Version: 1.31.0 Command: rm -rf RTNduals.buildbin-libdir && mkdir RTNduals.buildbin-libdir && /Users/biocbuild/BBS/utils/build-universal.sh RTNduals_1.31.0.tar.gz /Library/Frameworks/R.framework/Resources/bin/R RTNduals.buildbin-libdir StartedAt: 2025-02-05 00:59:34 -0500 (Wed, 05 Feb 2025) EndedAt: 2025-02-05 01:00:14 -0500 (Wed, 05 Feb 2025) EllapsedTime: 40.5 seconds RetCode: 0 Status: OK PackageFile: RTNduals_1.31.0.tgz PackageFileSize: 738 KiB