Package: RTNduals Version: 1.31.0 Command: rm -rf RTNduals.buildbin-libdir && mkdir RTNduals.buildbin-libdir && E:\biocbuild\bbs-3.21-bioc\R\bin\R.exe CMD INSTALL --build --library=RTNduals.buildbin-libdir RTNduals_1.31.0.tar.gz StartedAt: 2025-02-05 08:48:11 -0500 (Wed, 05 Feb 2025) EndedAt: 2025-02-05 08:49:05 -0500 (Wed, 05 Feb 2025) EllapsedTime: 54.1 seconds RetCode: 0 Status: OK PackageFile: RTNduals_1.31.0.zip PackageFileSize: 743.3 KiB