Package: RTNduals Version: 1.31.0 Command: E:\biocbuild\bbs-3.21-bioc\R\bin\R.exe CMD check --no-multiarch --install=check:RTNduals.install-out.txt --library=E:\biocbuild\bbs-3.21-bioc\R\library --no-vignettes --timings RTNduals_1.31.0.tar.gz StartedAt: 2025-02-10 04:55:59 -0500 (Mon, 10 Feb 2025) EndedAt: 2025-02-10 05:03:33 -0500 (Mon, 10 Feb 2025) EllapsedTime: 453.4 seconds RetCode: 0 Status: OK CheckDir: RTNduals.Rcheck Warnings: 0