Package: RTNsurvival Version: 1.31.0 Command: /Library/Frameworks/R.framework/Resources/bin/R CMD build --keep-empty-dirs --no-resave-data RTNsurvival StartedAt: 2025-02-12 18:07:56 -0500 (Wed, 12 Feb 2025) EndedAt: 2025-02-12 18:08:50 -0500 (Wed, 12 Feb 2025) EllapsedTime: 53.8 seconds RetCode: 0 Status: OK PackageFile: RTNsurvival_1.31.0.tar.gz PackageFileSize: 732.9 KiB