Package: RTNsurvival Version: 1.31.0 Command: /Library/Frameworks/R.framework/Resources/bin/R CMD check --install=check:RTNsurvival.install-out.txt --library=/Library/Frameworks/R.framework/Resources/library --no-vignettes --timings RTNsurvival_1.31.0.tar.gz StartedAt: 2025-02-12 23:02:04 -0500 (Wed, 12 Feb 2025) EndedAt: 2025-02-12 23:06:06 -0500 (Wed, 12 Feb 2025) EllapsedTime: 242.2 seconds RetCode: 0 Status: OK CheckDir: RTNsurvival.Rcheck Warnings: 0