Package: RTNsurvival Version: 1.31.0 Command: /Library/Frameworks/R.framework/Resources/bin/R CMD INSTALL RTNsurvival StartedAt: 2025-02-09 15:42:45 -0500 (Sun, 09 Feb 2025) EndedAt: 2025-02-09 15:43:29 -0500 (Sun, 09 Feb 2025) EllapsedTime: 43.9 seconds RetCode: 0 Status: OK