Package: RTNsurvival Version: 1.31.0 Command: /home/biocbuild/bbs-3.21-bioc/R/bin/R CMD build --keep-empty-dirs --no-resave-data RTNsurvival StartedAt: 2025-02-09 19:01:48 -0500 (Sun, 09 Feb 2025) EndedAt: 2025-02-09 19:02:36 -0500 (Sun, 09 Feb 2025) EllapsedTime: 48.0 seconds RetCode: 0 Status: OK PackageFile: RTNsurvival_1.31.0.tar.gz PackageFileSize: 733 KiB