Package: RTNsurvival Version: 1.31.0 Command: /home/biocbuild/bbs-3.21-bioc/R/bin/R CMD check --install=check:RTNsurvival.install-out.txt --library=/home/biocbuild/bbs-3.21-bioc/R/site-library --timings RTNsurvival_1.31.0.tar.gz StartedAt: 2025-02-10 02:08:26 -0500 (Mon, 10 Feb 2025) EndedAt: 2025-02-10 02:12:25 -0500 (Mon, 10 Feb 2025) EllapsedTime: 239.3 seconds RetCode: 0 Status: OK CheckDir: RTNsurvival.Rcheck Warnings: 0