Package: RTNsurvival Version: 1.31.0 Command: /home/biocbuild/bbs-3.21-bioc/R/bin/R CMD INSTALL RTNsurvival StartedAt: 2025-02-09 15:22:33 -0500 (Sun, 09 Feb 2025) EndedAt: 2025-02-09 15:23:05 -0500 (Sun, 09 Feb 2025) EllapsedTime: 32.1 seconds RetCode: 0 Status: OK