Package: RTNsurvival Version: 1.31.0 Command: E:\biocbuild\bbs-3.21-bioc\R\bin\R.exe CMD INSTALL RTNsurvival StartedAt: 2025-02-09 16:11:56 -0500 (Sun, 09 Feb 2025) EndedAt: 2025-02-09 16:12:49 -0500 (Sun, 09 Feb 2025) EllapsedTime: 53.4 seconds RetCode: 0 Status: OK