Package: RUVcorr Version: 1.39.0 Command: /home/biocbuild/bbs-3.21-bioc/R/bin/R CMD build --keep-empty-dirs --no-resave-data RUVcorr StartedAt: 2025-02-09 19:02:23 -0500 (Sun, 09 Feb 2025) EndedAt: 2025-02-09 19:03:08 -0500 (Sun, 09 Feb 2025) EllapsedTime: 45.2 seconds RetCode: 0 Status: OK PackageFile: RUVcorr_1.39.0.tar.gz PackageFileSize: 524.2 KiB