Package: RUVcorr Version: 1.39.0 Command: /home/biocbuild/bbs-3.21-bioc/R/bin/R CMD check --install=check:RUVcorr.install-out.txt --library=/home/biocbuild/bbs-3.21-bioc/R/site-library --timings RUVcorr_1.39.0.tar.gz StartedAt: 2025-02-13 02:10:13 -0500 (Thu, 13 Feb 2025) EndedAt: 2025-02-13 02:11:39 -0500 (Thu, 13 Feb 2025) EllapsedTime: 86.1 seconds RetCode: 0 Status: WARNINGS CheckDir: RUVcorr.Rcheck Warnings: 1