Package: RUVcorr Version: 1.39.0 Command: /home/biocbuild/bbs-3.21-bioc/R/bin/R CMD INSTALL RUVcorr StartedAt: 2025-02-12 15:13:01 -0500 (Wed, 12 Feb 2025) EndedAt: 2025-02-12 15:13:06 -0500 (Wed, 12 Feb 2025) EllapsedTime: 4.8 seconds RetCode: 0 Status: OK