Package: RUVcorr Version: 1.39.0 Command: rm -rf RUVcorr.buildbin-libdir && mkdir RUVcorr.buildbin-libdir && E:\biocbuild\bbs-3.21-bioc\R\bin\R.exe CMD INSTALL --build --library=RUVcorr.buildbin-libdir RUVcorr_1.39.0.tar.gz StartedAt: 2025-02-10 08:36:34 -0500 (Mon, 10 Feb 2025) EndedAt: 2025-02-10 08:36:41 -0500 (Mon, 10 Feb 2025) EllapsedTime: 7.2 seconds RetCode: 0 Status: OK PackageFile: RUVcorr_1.39.0.zip PackageFileSize: 277.2 KiB