Package: RUVcorr Version: 1.39.0 Command: E:\biocbuild\bbs-3.21-bioc\R\bin\R.exe CMD INSTALL RUVcorr StartedAt: 2025-02-09 15:47:56 -0500 (Sun, 09 Feb 2025) EndedAt: 2025-02-09 15:48:18 -0500 (Sun, 09 Feb 2025) EllapsedTime: 22.6 seconds RetCode: 0 Status: OK