Package: RUVnormalize Version: 1.41.0 Command: /Library/Frameworks/R.framework/Resources/bin/R CMD check --install=check:RUVnormalize.install-out.txt --library=/Library/Frameworks/R.framework/Resources/library --no-vignettes --timings RUVnormalize_1.41.0.tar.gz StartedAt: 2025-02-09 21:06:28 -0500 (Sun, 09 Feb 2025) EndedAt: 2025-02-09 21:06:46 -0500 (Sun, 09 Feb 2025) EllapsedTime: 18.2 seconds RetCode: 0 Status: OK CheckDir: RUVnormalize.Rcheck Warnings: 0