Package: RUVnormalize Version: 1.41.0 Command: /home/biocbuild/R/R/bin/R CMD INSTALL RUVnormalize StartedAt: 2025-01-29 19:31:43 -0000 (Wed, 29 Jan 2025) EndedAt: 2025-01-29 19:32:17 -0000 (Wed, 29 Jan 2025) EllapsedTime: 34.2 seconds RetCode: 0 Status: OK