Package: RUVnormalize Version: 1.41.0 Command: /Library/Frameworks/R.framework/Resources/bin/R CMD INSTALL RUVnormalize StartedAt: 2025-02-03 15:10:23 -0500 (Mon, 03 Feb 2025) EndedAt: 2025-02-03 15:10:51 -0500 (Mon, 03 Feb 2025) EllapsedTime: 28.5 seconds RetCode: 0 Status: OK