Package: RUVnormalize Version: 1.41.0 Command: /home/biocbuild/bbs-3.21-bioc/R/bin/R CMD INSTALL RUVnormalize StartedAt: 2025-02-09 15:56:14 -0500 (Sun, 09 Feb 2025) EndedAt: 2025-02-09 15:56:17 -0500 (Sun, 09 Feb 2025) EllapsedTime: 3.1 seconds RetCode: 0 Status: OK