Package: RUVnormalize Version: 1.41.0 Command: rm -rf RUVnormalize.buildbin-libdir && mkdir RUVnormalize.buildbin-libdir && E:\biocbuild\bbs-3.21-bioc\R\bin\R.exe CMD INSTALL --build --library=RUVnormalize.buildbin-libdir RUVnormalize_1.41.0.tar.gz StartedAt: 2025-02-10 08:36:35 -0500 (Mon, 10 Feb 2025) EndedAt: 2025-02-10 08:36:40 -0500 (Mon, 10 Feb 2025) EllapsedTime: 4.6 seconds RetCode: 0 Status: OK PackageFile: RUVnormalize_1.41.0.zip PackageFileSize: 227.8 KiB