Package: RUVnormalize Version: 1.41.0 Command: chmod a+r RUVnormalize -R && E:\biocbuild\bbs-3.21-bioc\R\bin\R.exe CMD build --keep-empty-dirs --no-resave-data RUVnormalize StartedAt: 2025-02-09 21:20:33 -0500 (Sun, 09 Feb 2025) EndedAt: 2025-02-09 21:20:57 -0500 (Sun, 09 Feb 2025) EllapsedTime: 23.7 seconds RetCode: 0 Status: OK PackageFile: RUVnormalize_1.41.0.tar.gz PackageFileSize: 192.4 KiB