Package: RUVnormalize Version: 1.41.0 Command: E:\biocbuild\bbs-3.21-bioc\R\bin\R.exe CMD INSTALL RUVnormalize StartedAt: 2025-02-09 15:24:24 -0500 (Sun, 09 Feb 2025) EndedAt: 2025-02-09 15:24:39 -0500 (Sun, 09 Feb 2025) EllapsedTime: 15.2 seconds RetCode: 0 Status: OK