Package: RankProd Version: 3.33.0 Command: /Library/Frameworks/R.framework/Resources/bin/R CMD INSTALL RankProd StartedAt: 2025-02-09 15:01:29 -0500 (Sun, 09 Feb 2025) EndedAt: 2025-02-09 15:01:34 -0500 (Sun, 09 Feb 2025) EllapsedTime: 4.9 seconds RetCode: 0 Status: OK