Package: RankProd Version: 3.33.0 Command: /home/biocbuild/R/R/bin/R CMD build --keep-empty-dirs --no-resave-data RankProd StartedAt: 2025-01-29 01:30:34 -0000 (Wed, 29 Jan 2025) EndedAt: 2025-01-29 01:30:53 -0000 (Wed, 29 Jan 2025) EllapsedTime: 19.0 seconds RetCode: 0 Status: OK PackageFile: RankProd_3.33.0.tar.gz PackageFileSize: 776.9 KiB