Package: RankProd Version: 3.33.0 Command: /home/biocbuild/R/R/bin/R CMD INSTALL RankProd StartedAt: 2025-01-29 19:30:43 -0000 (Wed, 29 Jan 2025) EndedAt: 2025-01-29 19:31:14 -0000 (Wed, 29 Jan 2025) EllapsedTime: 30.8 seconds RetCode: 0 Status: OK