Package: RankProd Version: 3.33.0 Command: /Library/Frameworks/R.framework/Resources/bin/R CMD build --keep-empty-dirs --no-resave-data RankProd StartedAt: 2025-02-09 18:04:47 -0500 (Sun, 09 Feb 2025) EndedAt: 2025-02-09 18:05:07 -0500 (Sun, 09 Feb 2025) EllapsedTime: 19.4 seconds RetCode: 0 Status: OK PackageFile: RankProd_3.33.0.tar.gz PackageFileSize: 776.7 KiB