Package: RankProd Version: 3.33.0 Command: /Library/Frameworks/R.framework/Resources/bin/R CMD check --install=check:RankProd.install-out.txt --library=/Library/Frameworks/R.framework/Resources/library --no-vignettes --timings RankProd_3.33.0.tar.gz StartedAt: 2025-02-09 22:57:57 -0500 (Sun, 09 Feb 2025) EndedAt: 2025-02-09 22:58:50 -0500 (Sun, 09 Feb 2025) EllapsedTime: 52.9 seconds RetCode: 0 Status: OK CheckDir: RankProd.Rcheck Warnings: 0