Package: RankProd Version: 3.33.0 Command: /Library/Frameworks/R.framework/Resources/bin/R CMD INSTALL RankProd StartedAt: 2025-02-03 15:09:18 -0500 (Mon, 03 Feb 2025) EndedAt: 2025-02-03 15:10:03 -0500 (Mon, 03 Feb 2025) EllapsedTime: 45.5 seconds RetCode: 0 Status: OK