Package: RankProd Version: 3.33.0 Command: /home/biocbuild/bbs-3.21-bioc/R/bin/R CMD build --keep-empty-dirs --no-resave-data RankProd StartedAt: 2025-02-03 18:57:37 -0500 (Mon, 03 Feb 2025) EndedAt: 2025-02-03 18:57:50 -0500 (Mon, 03 Feb 2025) EllapsedTime: 13.0 seconds RetCode: 0 Status: OK PackageFile: RankProd_3.33.0.tar.gz PackageFileSize: 777 KiB