Package: RankProd Version: 3.33.0 Command: /home/biocbuild/bbs-3.21-bioc/R/bin/R CMD check --install=check:RankProd.install-out.txt --library=/home/biocbuild/bbs-3.21-bioc/R/site-library --timings RankProd_3.33.0.tar.gz StartedAt: 2025-02-04 01:48:12 -0500 (Tue, 04 Feb 2025) EndedAt: 2025-02-04 01:48:55 -0500 (Tue, 04 Feb 2025) EllapsedTime: 43.1 seconds RetCode: 0 Status: OK CheckDir: RankProd.Rcheck Warnings: 0