Package: RankProd Version: 3.33.0 Command: chmod a+r RankProd -R && E:\biocbuild\bbs-3.21-bioc\R\bin\R.exe CMD build --keep-empty-dirs --no-resave-data RankProd StartedAt: 2025-02-03 21:13:26 -0500 (Mon, 03 Feb 2025) EndedAt: 2025-02-03 21:13:45 -0500 (Mon, 03 Feb 2025) EllapsedTime: 18.9 seconds RetCode: 0 Status: OK PackageFile: RankProd_3.33.0.tar.gz PackageFileSize: 653.6 KiB